BEGIN:VCALENDAR
VERSION:2.0
PRODID:-//Las Vegas Business Accelerator - ECPv6.15.20//NONSGML v1.0//EN
CALSCALE:GREGORIAN
METHOD:PUBLISH
X-WR-CALNAME:Las Vegas Business Accelerator
X-ORIGINAL-URL:https://www.lasvegasaccelerator.com
X-WR-CALDESC:Events for Las Vegas Business Accelerator
REFRESH-INTERVAL;VALUE=DURATION:PT1H
X-Robots-Tag:noindex
X-PUBLISHED-TTL:PT1H
BEGIN:VTIMEZONE
TZID:UTC
BEGIN:STANDARD
TZOFFSETFROM:+0000
TZOFFSETTO:+0000
TZNAME:UTC
DTSTART:20250101T000000
END:STANDARD
END:VTIMEZONE
BEGIN:VEVENT
DTSTART;TZID=UTC:20260430T173000
DTEND;TZID=UTC:20260430T193000
DTSTAMP:20260424T112001
CREATED:20250811T173352Z
LAST-MODIFIED:20250811T173352Z
UID:10000534-1777570200-1777577400@www.lasvegasaccelerator.com
SUMMARY:Money Smart for Small Business
DESCRIPTION:
URL:https://www.lasvegasaccelerator.com/event/money-smart-for-small-business/2026-04-30/
LOCATION:Urban Chamber of Commerce\, 1951 Stella Lake Street Suite 30\, Las Vegas\, NV\, 89106\, United States
ATTACH;FMTTYPE=image/png:https://www.lasvegasaccelerator.com/wp-content/uploads/2025/08/MONEYSMARTUCCUNREXTENSION.png
END:VEVENT
BEGIN:VEVENT
DTSTART;TZID=UTC:20260507T173000
DTEND;TZID=UTC:20260507T193000
DTSTAMP:20260424T112001
CREATED:20250811T173352Z
LAST-MODIFIED:20250811T173352Z
UID:10000535-1778175000-1778182200@www.lasvegasaccelerator.com
SUMMARY:Money Smart for Small Business
DESCRIPTION:
URL:https://www.lasvegasaccelerator.com/event/money-smart-for-small-business/2026-05-07/
LOCATION:Urban Chamber of Commerce\, 1951 Stella Lake Street Suite 30\, Las Vegas\, NV\, 89106\, United States
ATTACH;FMTTYPE=image/png:https://www.lasvegasaccelerator.com/wp-content/uploads/2025/08/MONEYSMARTUCCUNREXTENSION.png
END:VEVENT
BEGIN:VEVENT
DTSTART;TZID=UTC:20260514T173000
DTEND;TZID=UTC:20260514T193000
DTSTAMP:20260424T112001
CREATED:20250811T173352Z
LAST-MODIFIED:20250811T173352Z
UID:10000536-1778779800-1778787000@www.lasvegasaccelerator.com
SUMMARY:Money Smart for Small Business
DESCRIPTION:
URL:https://www.lasvegasaccelerator.com/event/money-smart-for-small-business/2026-05-14/
LOCATION:Urban Chamber of Commerce\, 1951 Stella Lake Street Suite 30\, Las Vegas\, NV\, 89106\, United States
ATTACH;FMTTYPE=image/png:https://www.lasvegasaccelerator.com/wp-content/uploads/2025/08/MONEYSMARTUCCUNREXTENSION.png
END:VEVENT
BEGIN:VEVENT
DTSTART;TZID=UTC:20260521T173000
DTEND;TZID=UTC:20260521T193000
DTSTAMP:20260424T112001
CREATED:20250811T173352Z
LAST-MODIFIED:20250811T173352Z
UID:10000537-1779384600-1779391800@www.lasvegasaccelerator.com
SUMMARY:Money Smart for Small Business
DESCRIPTION:
URL:https://www.lasvegasaccelerator.com/event/money-smart-for-small-business/2026-05-21/
LOCATION:Urban Chamber of Commerce\, 1951 Stella Lake Street Suite 30\, Las Vegas\, NV\, 89106\, United States
ATTACH;FMTTYPE=image/png:https://www.lasvegasaccelerator.com/wp-content/uploads/2025/08/MONEYSMARTUCCUNREXTENSION.png
END:VEVENT
BEGIN:VEVENT
DTSTART;TZID=UTC:20260528T173000
DTEND;TZID=UTC:20260528T193000
DTSTAMP:20260424T112001
CREATED:20250811T173352Z
LAST-MODIFIED:20250811T173352Z
UID:10000538-1779989400-1779996600@www.lasvegasaccelerator.com
SUMMARY:Money Smart for Small Business
DESCRIPTION:
URL:https://www.lasvegasaccelerator.com/event/money-smart-for-small-business/2026-05-28/
LOCATION:Urban Chamber of Commerce\, 1951 Stella Lake Street Suite 30\, Las Vegas\, NV\, 89106\, United States
ATTACH;FMTTYPE=image/png:https://www.lasvegasaccelerator.com/wp-content/uploads/2025/08/MONEYSMARTUCCUNREXTENSION.png
END:VEVENT
BEGIN:VEVENT
DTSTART;TZID=UTC:20260604T173000
DTEND;TZID=UTC:20260604T193000
DTSTAMP:20260424T112001
CREATED:20250811T173352Z
LAST-MODIFIED:20250811T173352Z
UID:10000539-1780594200-1780601400@www.lasvegasaccelerator.com
SUMMARY:Money Smart for Small Business
DESCRIPTION:
URL:https://www.lasvegasaccelerator.com/event/money-smart-for-small-business/2026-06-04/
LOCATION:Urban Chamber of Commerce\, 1951 Stella Lake Street Suite 30\, Las Vegas\, NV\, 89106\, United States
ATTACH;FMTTYPE=image/png:https://www.lasvegasaccelerator.com/wp-content/uploads/2025/08/MONEYSMARTUCCUNREXTENSION.png
END:VEVENT
BEGIN:VEVENT
DTSTART;TZID=UTC:20260611T173000
DTEND;TZID=UTC:20260611T193000
DTSTAMP:20260424T112001
CREATED:20250811T173352Z
LAST-MODIFIED:20250811T173352Z
UID:10000540-1781199000-1781206200@www.lasvegasaccelerator.com
SUMMARY:Money Smart for Small Business
DESCRIPTION:
URL:https://www.lasvegasaccelerator.com/event/money-smart-for-small-business/2026-06-11/
LOCATION:Urban Chamber of Commerce\, 1951 Stella Lake Street Suite 30\, Las Vegas\, NV\, 89106\, United States
ATTACH;FMTTYPE=image/png:https://www.lasvegasaccelerator.com/wp-content/uploads/2025/08/MONEYSMARTUCCUNREXTENSION.png
END:VEVENT
BEGIN:VEVENT
DTSTART;TZID=UTC:20260618T173000
DTEND;TZID=UTC:20260618T193000
DTSTAMP:20260424T112001
CREATED:20250811T173352Z
LAST-MODIFIED:20250811T173352Z
UID:10000541-1781803800-1781811000@www.lasvegasaccelerator.com
SUMMARY:Money Smart for Small Business
DESCRIPTION:
URL:https://www.lasvegasaccelerator.com/event/money-smart-for-small-business/2026-06-18/
LOCATION:Urban Chamber of Commerce\, 1951 Stella Lake Street Suite 30\, Las Vegas\, NV\, 89106\, United States
ATTACH;FMTTYPE=image/png:https://www.lasvegasaccelerator.com/wp-content/uploads/2025/08/MONEYSMARTUCCUNREXTENSION.png
END:VEVENT
BEGIN:VEVENT
DTSTART;TZID=UTC:20260625T173000
DTEND;TZID=UTC:20260625T193000
DTSTAMP:20260424T112001
CREATED:20250811T173352Z
LAST-MODIFIED:20250811T173352Z
UID:10000542-1782408600-1782415800@www.lasvegasaccelerator.com
SUMMARY:Money Smart for Small Business
DESCRIPTION:
URL:https://www.lasvegasaccelerator.com/event/money-smart-for-small-business/2026-06-25/
LOCATION:Urban Chamber of Commerce\, 1951 Stella Lake Street Suite 30\, Las Vegas\, NV\, 89106\, United States
ATTACH;FMTTYPE=image/png:https://www.lasvegasaccelerator.com/wp-content/uploads/2025/08/MONEYSMARTUCCUNREXTENSION.png
END:VEVENT
BEGIN:VEVENT
DTSTART;TZID=UTC:20260702T173000
DTEND;TZID=UTC:20260702T193000
DTSTAMP:20260424T112001
CREATED:20250811T173352Z
LAST-MODIFIED:20250811T173352Z
UID:10000543-1783013400-1783020600@www.lasvegasaccelerator.com
SUMMARY:Money Smart for Small Business
DESCRIPTION:
URL:https://www.lasvegasaccelerator.com/event/money-smart-for-small-business/2026-07-02/
LOCATION:Urban Chamber of Commerce\, 1951 Stella Lake Street Suite 30\, Las Vegas\, NV\, 89106\, United States
ATTACH;FMTTYPE=image/png:https://www.lasvegasaccelerator.com/wp-content/uploads/2025/08/MONEYSMARTUCCUNREXTENSION.png
END:VEVENT
BEGIN:VEVENT
DTSTART;TZID=UTC:20260709T173000
DTEND;TZID=UTC:20260709T193000
DTSTAMP:20260424T112001
CREATED:20250811T173352Z
LAST-MODIFIED:20250811T173352Z
UID:10000544-1783618200-1783625400@www.lasvegasaccelerator.com
SUMMARY:Money Smart for Small Business
DESCRIPTION:
URL:https://www.lasvegasaccelerator.com/event/money-smart-for-small-business/2026-07-09/
LOCATION:Urban Chamber of Commerce\, 1951 Stella Lake Street Suite 30\, Las Vegas\, NV\, 89106\, United States
ATTACH;FMTTYPE=image/png:https://www.lasvegasaccelerator.com/wp-content/uploads/2025/08/MONEYSMARTUCCUNREXTENSION.png
END:VEVENT
BEGIN:VEVENT
DTSTART;TZID=UTC:20260716T173000
DTEND;TZID=UTC:20260716T193000
DTSTAMP:20260424T112001
CREATED:20250811T173352Z
LAST-MODIFIED:20250811T173352Z
UID:10000545-1784223000-1784230200@www.lasvegasaccelerator.com
SUMMARY:Money Smart for Small Business
DESCRIPTION:
URL:https://www.lasvegasaccelerator.com/event/money-smart-for-small-business/2026-07-16/
LOCATION:Urban Chamber of Commerce\, 1951 Stella Lake Street Suite 30\, Las Vegas\, NV\, 89106\, United States
ATTACH;FMTTYPE=image/png:https://www.lasvegasaccelerator.com/wp-content/uploads/2025/08/MONEYSMARTUCCUNREXTENSION.png
END:VEVENT
BEGIN:VEVENT
DTSTART;TZID=UTC:20260723T173000
DTEND;TZID=UTC:20260723T193000
DTSTAMP:20260424T112001
CREATED:20250811T173352Z
LAST-MODIFIED:20250811T173352Z
UID:10000546-1784827800-1784835000@www.lasvegasaccelerator.com
SUMMARY:Money Smart for Small Business
DESCRIPTION:
URL:https://www.lasvegasaccelerator.com/event/money-smart-for-small-business/2026-07-23/
LOCATION:Urban Chamber of Commerce\, 1951 Stella Lake Street Suite 30\, Las Vegas\, NV\, 89106\, United States
ATTACH;FMTTYPE=image/png:https://www.lasvegasaccelerator.com/wp-content/uploads/2025/08/MONEYSMARTUCCUNREXTENSION.png
END:VEVENT
BEGIN:VEVENT
DTSTART;TZID=UTC:20260730T173000
DTEND;TZID=UTC:20260730T193000
DTSTAMP:20260424T112001
CREATED:20250811T173352Z
LAST-MODIFIED:20250811T173352Z
UID:10000547-1785432600-1785439800@www.lasvegasaccelerator.com
SUMMARY:Money Smart for Small Business
DESCRIPTION:
URL:https://www.lasvegasaccelerator.com/event/money-smart-for-small-business/2026-07-30/
LOCATION:Urban Chamber of Commerce\, 1951 Stella Lake Street Suite 30\, Las Vegas\, NV\, 89106\, United States
ATTACH;FMTTYPE=image/png:https://www.lasvegasaccelerator.com/wp-content/uploads/2025/08/MONEYSMARTUCCUNREXTENSION.png
END:VEVENT
BEGIN:VEVENT
DTSTART;TZID=UTC:20260806T173000
DTEND;TZID=UTC:20260806T193000
DTSTAMP:20260424T112001
CREATED:20250811T173352Z
LAST-MODIFIED:20250811T173352Z
UID:10000548-1786037400-1786044600@www.lasvegasaccelerator.com
SUMMARY:Money Smart for Small Business
DESCRIPTION:
URL:https://www.lasvegasaccelerator.com/event/money-smart-for-small-business/2026-08-06/
LOCATION:Urban Chamber of Commerce\, 1951 Stella Lake Street Suite 30\, Las Vegas\, NV\, 89106\, United States
ATTACH;FMTTYPE=image/png:https://www.lasvegasaccelerator.com/wp-content/uploads/2025/08/MONEYSMARTUCCUNREXTENSION.png
END:VEVENT
BEGIN:VEVENT
DTSTART;TZID=UTC:20260813T173000
DTEND;TZID=UTC:20260813T193000
DTSTAMP:20260424T112001
CREATED:20250811T173352Z
LAST-MODIFIED:20250811T173352Z
UID:10000549-1786642200-1786649400@www.lasvegasaccelerator.com
SUMMARY:Money Smart for Small Business
DESCRIPTION:
URL:https://www.lasvegasaccelerator.com/event/money-smart-for-small-business/2026-08-13/
LOCATION:Urban Chamber of Commerce\, 1951 Stella Lake Street Suite 30\, Las Vegas\, NV\, 89106\, United States
ATTACH;FMTTYPE=image/png:https://www.lasvegasaccelerator.com/wp-content/uploads/2025/08/MONEYSMARTUCCUNREXTENSION.png
END:VEVENT
BEGIN:VEVENT
DTSTART;TZID=UTC:20260820T173000
DTEND;TZID=UTC:20260820T193000
DTSTAMP:20260424T112001
CREATED:20250811T173352Z
LAST-MODIFIED:20250811T173352Z
UID:10000550-1787247000-1787254200@www.lasvegasaccelerator.com
SUMMARY:Money Smart for Small Business
DESCRIPTION:
URL:https://www.lasvegasaccelerator.com/event/money-smart-for-small-business/2026-08-20/
LOCATION:Urban Chamber of Commerce\, 1951 Stella Lake Street Suite 30\, Las Vegas\, NV\, 89106\, United States
ATTACH;FMTTYPE=image/png:https://www.lasvegasaccelerator.com/wp-content/uploads/2025/08/MONEYSMARTUCCUNREXTENSION.png
END:VEVENT
BEGIN:VEVENT
DTSTART;TZID=UTC:20260827T173000
DTEND;TZID=UTC:20260827T193000
DTSTAMP:20260424T112001
CREATED:20250811T173352Z
LAST-MODIFIED:20250811T173352Z
UID:10000551-1787851800-1787859000@www.lasvegasaccelerator.com
SUMMARY:Money Smart for Small Business
DESCRIPTION:
URL:https://www.lasvegasaccelerator.com/event/money-smart-for-small-business/2026-08-27/
LOCATION:Urban Chamber of Commerce\, 1951 Stella Lake Street Suite 30\, Las Vegas\, NV\, 89106\, United States
ATTACH;FMTTYPE=image/png:https://www.lasvegasaccelerator.com/wp-content/uploads/2025/08/MONEYSMARTUCCUNREXTENSION.png
END:VEVENT
BEGIN:VEVENT
DTSTART;TZID=UTC:20260903T173000
DTEND;TZID=UTC:20260903T193000
DTSTAMP:20260424T112001
CREATED:20250811T173352Z
LAST-MODIFIED:20250811T173352Z
UID:10000552-1788456600-1788463800@www.lasvegasaccelerator.com
SUMMARY:Money Smart for Small Business
DESCRIPTION:
URL:https://www.lasvegasaccelerator.com/event/money-smart-for-small-business/2026-09-03/
LOCATION:Urban Chamber of Commerce\, 1951 Stella Lake Street Suite 30\, Las Vegas\, NV\, 89106\, United States
ATTACH;FMTTYPE=image/png:https://www.lasvegasaccelerator.com/wp-content/uploads/2025/08/MONEYSMARTUCCUNREXTENSION.png
END:VEVENT
BEGIN:VEVENT
DTSTART;TZID=UTC:20260910T173000
DTEND;TZID=UTC:20260910T193000
DTSTAMP:20260424T112001
CREATED:20250811T173352Z
LAST-MODIFIED:20250811T173352Z
UID:10000553-1789061400-1789068600@www.lasvegasaccelerator.com
SUMMARY:Money Smart for Small Business
DESCRIPTION:
URL:https://www.lasvegasaccelerator.com/event/money-smart-for-small-business/2026-09-10/
LOCATION:Urban Chamber of Commerce\, 1951 Stella Lake Street Suite 30\, Las Vegas\, NV\, 89106\, United States
ATTACH;FMTTYPE=image/png:https://www.lasvegasaccelerator.com/wp-content/uploads/2025/08/MONEYSMARTUCCUNREXTENSION.png
END:VEVENT
BEGIN:VEVENT
DTSTART;TZID=UTC:20260917T173000
DTEND;TZID=UTC:20260917T193000
DTSTAMP:20260424T112001
CREATED:20250811T173352Z
LAST-MODIFIED:20250811T173352Z
UID:10000554-1789666200-1789673400@www.lasvegasaccelerator.com
SUMMARY:Money Smart for Small Business
DESCRIPTION:
URL:https://www.lasvegasaccelerator.com/event/money-smart-for-small-business/2026-09-17/
LOCATION:Urban Chamber of Commerce\, 1951 Stella Lake Street Suite 30\, Las Vegas\, NV\, 89106\, United States
ATTACH;FMTTYPE=image/png:https://www.lasvegasaccelerator.com/wp-content/uploads/2025/08/MONEYSMARTUCCUNREXTENSION.png
END:VEVENT
BEGIN:VEVENT
DTSTART;TZID=UTC:20260924T173000
DTEND;TZID=UTC:20260924T193000
DTSTAMP:20260424T112001
CREATED:20250811T173352Z
LAST-MODIFIED:20250811T173352Z
UID:10000555-1790271000-1790278200@www.lasvegasaccelerator.com
SUMMARY:Money Smart for Small Business
DESCRIPTION:
URL:https://www.lasvegasaccelerator.com/event/money-smart-for-small-business/2026-09-24/
LOCATION:Urban Chamber of Commerce\, 1951 Stella Lake Street Suite 30\, Las Vegas\, NV\, 89106\, United States
ATTACH;FMTTYPE=image/png:https://www.lasvegasaccelerator.com/wp-content/uploads/2025/08/MONEYSMARTUCCUNREXTENSION.png
END:VEVENT
BEGIN:VEVENT
DTSTART;TZID=UTC:20261001T173000
DTEND;TZID=UTC:20261001T193000
DTSTAMP:20260424T112001
CREATED:20250811T173352Z
LAST-MODIFIED:20250811T173352Z
UID:10000556-1790875800-1790883000@www.lasvegasaccelerator.com
SUMMARY:Money Smart for Small Business
DESCRIPTION:
URL:https://www.lasvegasaccelerator.com/event/money-smart-for-small-business/2026-10-01/
LOCATION:Urban Chamber of Commerce\, 1951 Stella Lake Street Suite 30\, Las Vegas\, NV\, 89106\, United States
ATTACH;FMTTYPE=image/png:https://www.lasvegasaccelerator.com/wp-content/uploads/2025/08/MONEYSMARTUCCUNREXTENSION.png
END:VEVENT
BEGIN:VEVENT
DTSTART;TZID=UTC:20261008T173000
DTEND;TZID=UTC:20261008T193000
DTSTAMP:20260424T112001
CREATED:20250811T173352Z
LAST-MODIFIED:20250811T173352Z
UID:10000557-1791480600-1791487800@www.lasvegasaccelerator.com
SUMMARY:Money Smart for Small Business
DESCRIPTION:
URL:https://www.lasvegasaccelerator.com/event/money-smart-for-small-business/2026-10-08/
LOCATION:Urban Chamber of Commerce\, 1951 Stella Lake Street Suite 30\, Las Vegas\, NV\, 89106\, United States
ATTACH;FMTTYPE=image/png:https://www.lasvegasaccelerator.com/wp-content/uploads/2025/08/MONEYSMARTUCCUNREXTENSION.png
END:VEVENT
BEGIN:VEVENT
DTSTART;TZID=UTC:20261015T173000
DTEND;TZID=UTC:20261015T193000
DTSTAMP:20260424T112001
CREATED:20250811T173352Z
LAST-MODIFIED:20250811T173352Z
UID:10000558-1792085400-1792092600@www.lasvegasaccelerator.com
SUMMARY:Money Smart for Small Business
DESCRIPTION:
URL:https://www.lasvegasaccelerator.com/event/money-smart-for-small-business/2026-10-15/
LOCATION:Urban Chamber of Commerce\, 1951 Stella Lake Street Suite 30\, Las Vegas\, NV\, 89106\, United States
ATTACH;FMTTYPE=image/png:https://www.lasvegasaccelerator.com/wp-content/uploads/2025/08/MONEYSMARTUCCUNREXTENSION.png
END:VEVENT
BEGIN:VEVENT
DTSTART;TZID=UTC:20261022T173000
DTEND;TZID=UTC:20261022T193000
DTSTAMP:20260424T112001
CREATED:20250811T173352Z
LAST-MODIFIED:20250811T173352Z
UID:10000559-1792690200-1792697400@www.lasvegasaccelerator.com
SUMMARY:Money Smart for Small Business
DESCRIPTION:
URL:https://www.lasvegasaccelerator.com/event/money-smart-for-small-business/2026-10-22/
LOCATION:Urban Chamber of Commerce\, 1951 Stella Lake Street Suite 30\, Las Vegas\, NV\, 89106\, United States
ATTACH;FMTTYPE=image/png:https://www.lasvegasaccelerator.com/wp-content/uploads/2025/08/MONEYSMARTUCCUNREXTENSION.png
END:VEVENT
BEGIN:VEVENT
DTSTART;TZID=UTC:20261029T173000
DTEND;TZID=UTC:20261029T193000
DTSTAMP:20260424T112001
CREATED:20250811T173352Z
LAST-MODIFIED:20250811T173352Z
UID:10000560-1793295000-1793302200@www.lasvegasaccelerator.com
SUMMARY:Money Smart for Small Business
DESCRIPTION:
URL:https://www.lasvegasaccelerator.com/event/money-smart-for-small-business/2026-10-29/
LOCATION:Urban Chamber of Commerce\, 1951 Stella Lake Street Suite 30\, Las Vegas\, NV\, 89106\, United States
ATTACH;FMTTYPE=image/png:https://www.lasvegasaccelerator.com/wp-content/uploads/2025/08/MONEYSMARTUCCUNREXTENSION.png
END:VEVENT
BEGIN:VEVENT
DTSTART;TZID=UTC:20261105T173000
DTEND;TZID=UTC:20261105T193000
DTSTAMP:20260424T112001
CREATED:20250811T173352Z
LAST-MODIFIED:20250811T173352Z
UID:10000561-1793899800-1793907000@www.lasvegasaccelerator.com
SUMMARY:Money Smart for Small Business
DESCRIPTION:
URL:https://www.lasvegasaccelerator.com/event/money-smart-for-small-business/2026-11-05/
LOCATION:Urban Chamber of Commerce\, 1951 Stella Lake Street Suite 30\, Las Vegas\, NV\, 89106\, United States
ATTACH;FMTTYPE=image/png:https://www.lasvegasaccelerator.com/wp-content/uploads/2025/08/MONEYSMARTUCCUNREXTENSION.png
END:VEVENT
BEGIN:VEVENT
DTSTART;TZID=UTC:20261112T173000
DTEND;TZID=UTC:20261112T193000
DTSTAMP:20260424T112001
CREATED:20250811T173352Z
LAST-MODIFIED:20250811T173352Z
UID:10000562-1794504600-1794511800@www.lasvegasaccelerator.com
SUMMARY:Money Smart for Small Business
DESCRIPTION:
URL:https://www.lasvegasaccelerator.com/event/money-smart-for-small-business/2026-11-12/
LOCATION:Urban Chamber of Commerce\, 1951 Stella Lake Street Suite 30\, Las Vegas\, NV\, 89106\, United States
ATTACH;FMTTYPE=image/png:https://www.lasvegasaccelerator.com/wp-content/uploads/2025/08/MONEYSMARTUCCUNREXTENSION.png
END:VEVENT
BEGIN:VEVENT
DTSTART;TZID=UTC:20261119T173000
DTEND;TZID=UTC:20261119T193000
DTSTAMP:20260424T112001
CREATED:20250811T173352Z
LAST-MODIFIED:20250811T173352Z
UID:10000563-1795109400-1795116600@www.lasvegasaccelerator.com
SUMMARY:Money Smart for Small Business
DESCRIPTION:
URL:https://www.lasvegasaccelerator.com/event/money-smart-for-small-business/2026-11-19/
LOCATION:Urban Chamber of Commerce\, 1951 Stella Lake Street Suite 30\, Las Vegas\, NV\, 89106\, United States
ATTACH;FMTTYPE=image/png:https://www.lasvegasaccelerator.com/wp-content/uploads/2025/08/MONEYSMARTUCCUNREXTENSION.png
END:VEVENT
END:VCALENDAR