BEGIN:VCALENDAR
VERSION:2.0
PRODID:-//Las Vegas Business Accelerator - ECPv6.15.20//NONSGML v1.0//EN
CALSCALE:GREGORIAN
METHOD:PUBLISH
X-ORIGINAL-URL:https://www.lasvegasaccelerator.com
X-WR-CALDESC:Events for Las Vegas Business Accelerator
REFRESH-INTERVAL;VALUE=DURATION:PT1H
X-Robots-Tag:noindex
X-PUBLISHED-TTL:PT1H
BEGIN:VTIMEZONE
TZID:UTC
BEGIN:STANDARD
TZOFFSETFROM:+0000
TZOFFSETTO:+0000
TZNAME:UTC
DTSTART:20230101T000000
END:STANDARD
END:VTIMEZONE
BEGIN:VEVENT
DTSTART;TZID=UTC:20241001T110000
DTEND;TZID=UTC:20241001T123000
DTSTAMP:20260423T104541
CREATED:20241001T164407Z
LAST-MODIFIED:20241001T164407Z
UID:10000263-1727780400-1727785800@www.lasvegasaccelerator.com
SUMMARY:Source Like a Pro: Tips and Tricks for Buying Online on Alibaba.com
DESCRIPTION:Join us on October 1st at 11 AM PST / 1 PM CT / 2 PM EST for an exclusive webinar\, “Source Like a Pro”\, as part of the Small Business Project. Learn how to leverage Alibaba.com’s powerful tools and network to source from the largest B2B marketplace\, connecting you with over 50 million active buyers and 200 million products from 190 countries and regions. In this session\, we’ll provide expert insights on how to: 1) Source efficiently with AI-powered tools\, Trade Assurance\, and Alibaba Guarantee. 2) Discover exclusive benefits tailored to U.S. small businesses through the Small Business Project. 3) Navigate the platform like a pro and unlock special offers and educational resources. Don’t miss this unique opportunity to grow your business with Alibaba.com! Visit our Small Business Project landing page by typing “SBP” in the search bar on Alibaba.com. This event is in partnership with: -Inland Empire Chamber of Commerce -California Hispanic Chambers of Commerce -Brooklyn Chamber of Commerce -U.S. Black Chambers\, Inc. Register today and take your sourcing game to the next level!
URL:https://www.lasvegasaccelerator.com/event/source-like-a-pro-tips-and-tricks-for-buying-online-on-alibaba-com/
END:VEVENT
END:VCALENDAR